BEGIN:VCALENDAR
VERSION:2.0
PRODID:-//ChamberMaster//Event Calendar 2.0//EN
METHOD:PUBLISH
X-PUBLISHED-TTL:P3D
REFRESH-INTERVAL:P3D
CALSCALE:GREGORIAN
BEGIN:VEVENT
DTSTART:20230523T113000Z
DTEND:20230523T130000Z
X-MICROSOFT-CDO-ALLDAYEVENT:FALSE
SUMMARY:Vision Alumni Breakfast
DESCRIPTION:As Henderson County is wrapping-up a proposed update to their 2045 Comprehensive Plan we will have a presentation and discussion regarding the need for these plans and how they impact future growth and development. These long-range development plans include significant public input and they provide a "blue print" for growth that may be used for many years.\n\n\n\nFeatured Speakers:\n\nChristopher Todd\, Director   Business & Community Development\, Henderson County\n\nAutumn Radcliff\, Planning Director\, Henderson County\n\n \n\nPanelists:\n\nJohn Connet\, City Manager\, City of Hendersonville\n\nMark Biberdorf\, Town Manager\, Town of Fletcher\n\nDaniel Cobb\, Town Manager\, Town of Mills River\n\nAlex Carmichael\, Town Manager\, Town of Laurel Park\n\nPatricia Christie\, Village Administrator\, Village of Flat Rock
X-ALT-DESC;FMTTYPE=text/html:As Henderson County is wrapping-up a proposed update to their 2045 Comprehensive Plan we will have a presentation and discussion regarding the need for these plans and how they impact future growth and development. These long-range development plans include significant public input and they provide a &ldquo\;blue print&rdquo\; for growth that may be used for many years.<br />\n<br />\nFeatured Speakers:<br />\nChristopher Todd\, Director &ndash\; Business &amp\; Community Development\, Henderson County<br />\nAutumn Radcliff\, Planning Director\, Henderson County<br />\n&nbsp\;<br />\nPanelists:<br />\nJohn Connet\, City Manager\, City of Hendersonville<br />\nMark Biberdorf\, Town Manager\, Town of Fletcher<br />\nDaniel Cobb\, Town Manager\, Town of Mills River<br />\nAlex Carmichael\, Town Manager\, Town of Laurel Park<br />\nPatricia Christie\, Village Administrator\, Village of Flat Rock<br />\n&nbsp\; &nbsp\; &nbsp\; &nbsp\; &nbsp\; &nbsp\; &nbsp\; &nbsp\; &nbsp\; &nbsp\; &nbsp\; &nbsp\;
LOCATION:The Cascades Mountain Resort 201 Sugarloaf Road
UID:e.2975.5549
SEQUENCE:3
DTSTAMP:20260422T090317Z
URL:https://business.hendersoncountychamber.org/events/details/vision-alumni-breakfast-5549
END:VEVENT

END:VCALENDAR
