BEGIN:VCALENDAR
VERSION:2.0
PRODID:-//ChamberMaster//Event Calendar 2.0//EN
METHOD:PUBLISH
X-PUBLISHED-TTL:P3D
REFRESH-INTERVAL:P3D
CALSCALE:GREGORIAN
BEGIN:VEVENT
DTSTART:20230822T153000Z
DTEND:20230822T170000Z
X-MICROSOFT-CDO-ALLDAYEVENT:FALSE
SUMMARY:Vision Alumni Luncheon: What Drives the Henderson County Economy
DESCRIPTION:Join the Chamber and Vision Alumni as we hear and talk about our local Economic Engines - Manufacturing and Agriculture\, with our speakers\, Brittany Brady\, HCPED\, and Mark Williams\, AgHC.\n\nThis event is emceed by Shanda Bedoian.\n\nLunch will be provided by Monte's Sub Shop\n\n$20 per person\n\n*Tours can be offered at our host site. Please let us know in your registration if you would like a tour*
X-ALT-DESC;FMTTYPE=text/html:<p style="text-align: center\;">Join the Chamber and Vision Alumni as we hear and talk about our local Economic Engines - Manufacturing and Agriculture\, with our speakers\, Brittany Brady\, HCPED\, and Mark Williams\, AgHC.</p>\n\n<p style="text-align: center\;">This event is emceed by Shanda Bedoian.</p>\n\n<p style="text-align: center\;">Lunch will be provided by Monte&#39\;s Sub Shop</p>\n\n<p style="text-align: center\;">$20 per person</p>\n\n<p style="text-align: center\;">*Tours can be offered at our host site. Please let us know in your registration if you would like a tour*</p>\n
LOCATION:Current\, The Institute 3010 Spartanburg HWY\, East Flat Rock
UID:e.2975.5860
SEQUENCE:3
DTSTAMP:20260419T182441Z
URL:https://business.hendersoncountychamber.org/events/details/vision-alumni-luncheon-what-drives-the-henderson-county-economy-5860
END:VEVENT

END:VCALENDAR
