BEGIN:VCALENDAR
VERSION:2.0
PRODID:-//ChamberMaster//Event Calendar 2.0//EN
METHOD:PUBLISH
X-PUBLISHED-TTL:P3D
REFRESH-INTERVAL:P3D
CALSCALE:GREGORIAN
BEGIN:VEVENT
DTSTART:20230603T190000Z
DTEND:20230604T010000Z
X-MICROSOFT-CDO-ALLDAYEVENT:FALSE
SUMMARY:Where the Heart Is
DESCRIPTION:All Seats: $15 and includes a glass of wine\n\nJune 3\n\n2 Performances\n\n3 pm and 7:30 pm\n\nWritten by Brevard playwright Stephen Marsh\, Where the Heart Is tells the story of Maria Shaughnessy\, who runs an unofficial boarding house that's home to several elders. All goes well until  Presented in a reader's theater format\, actors don't memorize scripts but read them to the audience while using their voices and upper bodies to convey the roles they are playing. Actors also use vocal and facial expressions\, as well as hand and arm movements.
X-ALT-DESC;FMTTYPE=text/html:<p style="text-align:center">All Seats:&nbsp\;$15 and includes a glass of wine</p>\n\n<p style="text-align:center">June 3<br />\n2 Performances<br />\n3 pm and 7:30 pm</p>\n\n<p><span style="color:rgb(35\, 31\, 32)\; font-family:arial\,sans-serif\; font-size:16px">Written by Brevard playwright Stephen Marsh\,&nbsp\;</span><em>Where the Heart Is</em><span style="color:rgb(35\, 31\, 32)\; font-family:arial\,sans-serif\; font-size:16px">&nbsp\;tells the story of Maria Shaughnessy\, who runs an unofficial boarding house that&rsquo\;s home to several elders. All goes well until&hellip\; Presented in a reader&rsquo\;s theater format\, actors don&rsquo\;t memorize scripts but read them to the audience while using their voices and upper bodies to convey the roles they are playing. Actors also use vocal and facial expressions\, as well as hand and arm movements.</span></p>\n
LOCATION:Hendersonville Theatre 229 S. Washington Street Hendersonville\, NC 28739
UID:e.2975.5763
SEQUENCE:3
DTSTAMP:20260419T221022Z
URL:https://business.hendersoncountychamber.org/events/details/where-the-heart-is-5763
END:VEVENT

END:VCALENDAR
