BEGIN:VCALENDAR
VERSION:2.0
PRODID:-//ChamberMaster//Event Calendar 2.0//EN
METHOD:PUBLISH
X-PUBLISHED-TTL:P3D
REFRESH-INTERVAL:P3D
CALSCALE:GREGORIAN
BEGIN:VEVENT
DTSTART:20230325T140000Z
DTEND:20230325T230000Z
X-MICROSOFT-CDO-ALLDAYEVENT:FALSE
SUMMARY:WNC Charity Fire Truck Pull
DESCRIPTION:Come to the WNC Agriculture Center and watch as teams from across the Carolinas compete in a double-elimination bracket to pull two fire trucks in a race for the best time. After watching the display of teamwork\, stay for a live concert.\n\n\n\nNot only will this be an exciting event\, it will also be for charity! We are fundraising a portion of the proceeds for the NC Firefighters' Burned Children Fund.\n\n\n\nD?oors open at 10:00am\n\n\n\nF?irst truck pull begins at 12:00pm\n\nC?oncert begins at 5:00pm
X-ALT-DESC;FMTTYPE=text/html:<p style="text-align:center">Come to the WNC Agriculture Center and watch as teams from across the Carolinas compete in a double-elimination bracket to pull two fire trucks in a race for the best time. After watching the display of teamwork\, stay for a live concert.<br />\n<br />\nNot only will this be an exciting event\, it will also be for charity! We are fundraising a portion of the proceeds for the NC Firefighters&#39\; Burned Children Fund.<br />\n<br />\nD?oors open at 10:00am<br />\n<br />\nF?irst truck pull begins at 12:00pm</p>\n\n<p style="text-align: center\;">C?oncert begins at 5:00pm</p>\n
LOCATION:Expo Building\, WNC Agriculture Center 775 Boylston Hwy\, Fletcher\, NC 28732
UID:e.2975.5362
SEQUENCE:3
DTSTAMP:20260422T110930Z
URL:https://business.hendersoncountychamber.org/events/details/wnc-charity-fire-truck-pull-5362
END:VEVENT

END:VCALENDAR
