BEGIN:VCALENDAR
VERSION:2.0
PRODID:-//ChamberMaster//Event Calendar 2.0//EN
METHOD:PUBLISH
X-PUBLISHED-TTL:P3D
REFRESH-INTERVAL:P3D
CALSCALE:GREGORIAN
BEGIN:VEVENT
DTSTART:20230307T123000Z
DTEND:20230307T140000Z
X-MICROSOFT-CDO-ALLDAYEVENT:FALSE
SUMMARY:Women's Leadership Breakfast
DESCRIPTION:Every woman is a leader\, whether established or growing your leadership skills.  This breakfast\, organized by the ATHENA of Henderson County Award committee is a fantastic opportunity to explore your own development as a leader\, no matter where you are at on your journey. \n\n \n\nThe program consists of a panelist of three women who will be sharing personal stories of their own leadership struggles and triumphs.  We are pleased to have Stacy Fields\, Pauline Carpenter\, and Adriana Chavela. \n\n \n\nConversations will happen\, lives will be touched\, leaders will be inspired\, and friendships will be formed as we take time for personal introspection and table discussion structured around the eight ATHENA leadership principles:\n\n	Live Authentically\n	Learn Constantly\n	Advocate Fiercely\n	Act Courageously\n	Foster Collaboration\n	Build Relationships\n	Give Back\n	Celebrate\n\n \n\nWe hope you can join us!  This is great opportunity to celebrate the gifts we have\, and the chance to learn more about the skills we would like to grow\n\n \n\nThis breakfast is Presented by Stuller Power Solutions and Relocate828\, with a partnership with Cascades Mountain Resort.
X-ALT-DESC;FMTTYPE=text/html:<div style="color: rgb(68\, 68\, 68)\; font-family: Calibri\, Helvetica\, Arial\, sans-serif\; font-size: 16px\;">Every woman is a leader\, whether established or growing your leadership skills.&nbsp\; This breakfast\, organized by the ATHENA of Henderson County Award committee is a fantastic opportunity to explore your own development as a leader\, no matter where you are at on your journey.&nbsp\;<br>\n&nbsp\;<br>\nThe program consists of a panelist of three women who will be sharing personal stories of their own leadership struggles and triumphs.&nbsp\; We are pleased to have Stacy Fields\, Pauline Carpenter\, and Adriana Chavela.&nbsp\;<br>\n&nbsp\;<br>\nConversations will happen\, lives will be touched\, leaders will be inspired\, and friendships will be formed as we take time for personal introspection and table discussion structured around the eight ATHENA leadership principles:\n<ol>\n	<li style="margin-bottom:0in\;margin-bottom:.0001pt\;">Live Authentically</li>\n	<li style="margin-bottom:0in\;margin-bottom:.0001pt\;">Learn Constantly</li>\n	<li style="margin-bottom:0in\;margin-bottom:.0001pt\;">Advocate Fiercely</li>\n	<li style="margin-bottom:0in\;margin-bottom:.0001pt\;">Act Courageously</li>\n	<li style="margin-bottom:0in\;margin-bottom:.0001pt\;">Foster Collaboration</li>\n	<li style="margin-bottom:0in\;margin-bottom:.0001pt\;">Build Relationships</li>\n	<li style="margin-bottom:0in\;margin-bottom:.0001pt\;">Give Back</li>\n	<li style="margin-bottom:0in\;margin-bottom:.0001pt\;">Celebrate</li>\n</ol>\n&nbsp\;<br>\nWe hope you can join us!&nbsp\; This is great opportunity to celebrate the gifts we have\, and the chance to learn more about the skills we would like to grow<br>\n&nbsp\;<br>\nThis breakfast is Presented by Stuller Power Solutions and Relocate828\, with a partnership with Cascades Mountain Resort.</div>\n
LOCATION:Kanuga Inn & Lodging Balthis-Rodwell Building 471 Kanuga Chapel Drive Hendersonville\, NC 28739
UID:e.2975.5266
SEQUENCE:3
DTSTAMP:20260422T111028Z
URL:https://business.hendersoncountychamber.org/events/details/women-s-leadership-breakfast-5266
END:VEVENT

END:VCALENDAR
