BEGIN:VCALENDAR
VERSION:2.0
PRODID:-//ChamberMaster//Event Calendar 2.0//EN
METHOD:PUBLISH
X-PUBLISHED-TTL:P3D
REFRESH-INTERVAL:P3D
CALSCALE:GREGORIAN
BEGIN:VEVENT
DTSTART:20231017T113000Z
DTEND:20231017T130000Z
X-MICROSOFT-CDO-ALLDAYEVENT:FALSE
SUMMARY:Women's Leadership Breakfast
DESCRIPTION:Every woman is a leader\, whether established or growing your leadership skills.  This breakfast\, organized by the ATHENA of Henderson County committee\, is a fantastic opportunity to explore your own development as a leader\, no matter where you are at on your journey. \n\n \n\nConversations will happen\, lives will be touched\, leaders will be inspired\, and friendships will be formed as we take time for personal introspection and table discussion structured around the eight ATHENA leadership principles:\n\nLive Authentically\n\nLearn Constantly\n\nAdvocate Fiercely\n\nAct Courageously\n\nFoster Collaboration\n\nBuild Relationships\n\nGive Back\n\nCelebrate\n\n\n\nWe will hear from two amazing women from our community\, Recipient of the 2023 Athena Award\, Hope Coalition and The Buzz owner/founder - Julie Huneycutt\, and Serial Entrepreneur (LS Creative & HVL Toy Company) and City Council Woman - Lyndsey Simpson! \n\n\n\nWe hope you can join us!  This is great opportunity to celebrate the gifts we have\, and the chance to learn more about the skills we would like to grow\n\n \n\nThis breakfast is Presented by Stuller Power Solutions and Relocate828\, with a partnership with Cascades Mountain Resort.\n\n\n\n7:30 am - Check In\n\n7:45 am - Breakfast & Networking\n\n8:00 am - Program
X-ALT-DESC;FMTTYPE=text/html:<div style="color: rgb(68\, 68\, 68)\; font-family: Calibri\, Helvetica\, Arial\, sans-serif\; font-size: 16px\;">Every woman is a leader\, whether established or growing your leadership skills.&nbsp\; This breakfast\, organized by the ATHENA of Henderson County committee\, is a fantastic opportunity to explore your own development as a leader\, no matter where you are at on your journey.&nbsp\;<br />\n&nbsp\;<br />\nConversations will happen\, lives will be touched\, leaders will be inspired\, and friendships will be formed as we take time for personal introspection and table discussion structured around the eight ATHENA leadership principles:<br />\nLive Authentically<br />\nLearn Constantly<br />\nAdvocate Fiercely<br />\nAct Courageously<br />\nFoster Collaboration<br />\nBuild Relationships<br />\nGive Back<br />\nCelebrate<br />\n<br />\nWe will hear from two amazing women from our community\, Recipient of the 2023 Athena Award\, Hope Coalition and The Buzz owner/founder - Julie Huneycutt\, and Serial Entrepreneur (LS Creative &amp\; HVL Toy Company) and City Council Woman - Lyndsey Simpson!&nbsp\;<br />\n<br />\nWe hope you can join us!&nbsp\; This is great opportunity to celebrate the gifts we have\, and the chance to learn more about the skills we would like to grow<br />\n&nbsp\;<br />\nThis breakfast is Presented by Stuller Power Solutions and Relocate828\, with a partnership with Cascades Mountain Resort.<br />\n<br />\n7:30 am - Check In<br />\n7:45 am - Breakfast &amp\; Networking<br />\n8:00 am - Program</div>\n
LOCATION:Kanuga Inn & Lodging Balthis-Rodwell Building 471 Kanuga Chapel Drive Hendersonville\, NC 28739
UID:e.2975.5989
SEQUENCE:3
DTSTAMP:20260419T144159Z
URL:https://business.hendersoncountychamber.org/events/details/women-s-leadership-breakfast-5989
END:VEVENT

END:VCALENDAR
