BEGIN:VCALENDAR
VERSION:2.0
PRODID:-//ChamberMaster//Event Calendar 2.0//EN
METHOD:PUBLISH
X-PUBLISHED-TTL:P3D
REFRESH-INTERVAL:P3D
CALSCALE:GREGORIAN
BEGIN:VEVENT
DTSTART:20230721T220000Z
DTEND:20230721T233000Z
X-MICROSOFT-CDO-ALLDAYEVENT:FALSE
SUMMARY:Women's Only Self Defense Workshop
DESCRIPTION:Learn reality based self defense from 3rd degree black belt woman instructor with decades of experience. Learn self defense from a woman's perspective. Many self defense applications are taught by men which are larger and stronger than most women. Learn first hand from one of our female instructors on how to handle yourself when attacked by a man.\n\nSensei Alexa Arnold is a 3rd Degree Black Belt Instructor of Shaolin Kempo\, a Yoga Instructor as well as a Krav Maga practioner. \n\n?The price is only $10 so register today
X-ALT-DESC;FMTTYPE=text/html:<p><span style="font-family:museo-w01-700\,museo-w05-700\,serif">Learn reality based self defense from 3rd degree black belt woman instructor with decades of experience. Learn self defense from a woman&#39\;s perspective. Many self defense applications are taught by men which are larger and stronger than most women. Learn first hand from one of our female instructors on how to handle yourself when attacked by a man.</span></p>\n\n<p><span style="font-family:museo-w01-700\,museo-w05-700\,serif">Sensei Alexa Arnold is a 3rd Degree Black Belt Instructor of Shaolin Kempo\, a Yoga Instructor as well as a Krav Maga practioner.&nbsp\;</span></p>\n\n<p>?<span style="font-family:museo-w01-700\,museo-w05-700\,serif">The price is only $10 so register today</span></p>\n
LOCATION:Hendokickboxing & Krav Maga 245 N King Street Hendersonville\, NC 28792
UID:e.2975.5858
SEQUENCE:3
DTSTAMP:20260419T201821Z
URL:https://business.hendersoncountychamber.org/events/details/women-s-only-self-defense-workshop-07-21-2023-5858
END:VEVENT

END:VCALENDAR
