BEGIN:VCALENDAR
VERSION:2.0
PRODID:-//ChamberMaster//Event Calendar 2.0//EN
METHOD:PUBLISH
X-PUBLISHED-TTL:P3D
REFRESH-INTERVAL:P3D
CALSCALE:GREGORIAN
BEGIN:VEVENT
DTSTART:20230825T220000Z
DTEND:20230825T233000Z
X-MICROSOFT-CDO-ALLDAYEVENT:FALSE
SUMMARY:women's only self defense workshop
DESCRIPTION:Women's Only Self Defense Workshop\n\nAugust 25th\, 2023\n\nages 13+\n\nJust $10\n\nLearn reality based self defense from 3rd degree black belt woman instructor with decades of experience. Learn self defense from a woman's perspective. Many self defense applications are taught by men which are larger and stronger than most women. Learn first hand from one of our female instructors on how to handle yourself when attacked by a man.\n\n?Sensei Alexa Arnold is a 3rd Degree Black Belt Instructor of Shaolin Kempo\, a Yoga Instructor as well as a Krav Maga practioner.
X-ALT-DESC;FMTTYPE=text/html:<p><span style="color:rgb(0\, 0\, 0)"><span style="font-family:museo-w01-700\,museo-w05-700\,serif">Women&#39\;s Only Self Defense Workshop</span></span></p>\n\n<p><span style="font-family:museo-w01-700\,museo-w05-700\,serif"><span style="color:rgb(235\, 160\, 75)">August 25th\, 2023</span></span></p>\n\n<p><span style="color:rgb(235\, 160\, 75)"><span style="font-family:museo-w01-700\,serif">ages 13+</span></span></p>\n\n<p><span style="color:rgb(0\, 0\, 0)"><span style="font-family:museo-w01-700\,museo-w05-700\,serif">Just $10</span></span></p>\n\n<p><span style="color:rgb(0\, 0\, 0)\; font-family:museo-w01-700\,museo-w05-700\,serif">Learn reality based self defense from 3rd degree black belt woman instructor with decades of experience. Learn self defense from a woman&#39\;s perspective. Many self defense applications are taught by men which are larger and stronger than most women. Learn first hand from one of our female instructors on how to handle yourself when attacked by a man.</span></p>\n\n<p><span style="font-family:museo-w01-700\,museo-w05-700\,serif">?</span><span style="color:rgb(0\, 0\, 0)\; font-family:museo-w01-700\,museo-w05-700\,serif">Sensei Alexa Arnold is a 3rd Degree Black Belt Instructor of Shaolin Kempo\, a Yoga Instructor as well as a Krav Maga practioner.&nbsp\;</span></p>\n
LOCATION:Hendokickboxing & Krav Maga 245 N King Street Hendersonville\, NC 28792
UID:e.2975.6139
SEQUENCE:3
DTSTAMP:20260419T182143Z
URL:https://business.hendersoncountychamber.org/events/details/women-s-only-self-defense-workshop-08-25-2023-6139
END:VEVENT

END:VCALENDAR
