BEGIN:VCALENDAR
VERSION:2.0
PRODID:-//ChamberMaster//Event Calendar 2.0//EN
METHOD:PUBLISH
X-PUBLISHED-TTL:P3D
REFRESH-INTERVAL:P3D
CALSCALE:GREGORIAN
BEGIN:VEVENT
DTSTART:20230812T140000Z
DTEND:20230812T170000Z
X-MICROSOFT-CDO-ALLDAYEVENT:FALSE
SUMMARY:Young Professionals Bi-Annual Meetup
DESCRIPTION:Please join other YP members in hiking Carl Sandburg! Those interested should meeting in the Carl Sandburg parking lot at 10AM. After hiking an optional group lunch at a local restaurant will follow. Please wear comfortable shoes and sun screen/bug spray as needed. The hike is moderate in difficulty and should be comfortable for all skill levels. Please bring your own water and snacks. Hope to see you there!\n\nWe want to give a big shoutout to AdventHealth Hendersonville and our supporting sponsor Spectrum Reach Marketing for making this program possible. Please note that participation in this event is limited to those under 40.
X-ALT-DESC;FMTTYPE=text/html:<div class="xdj266r x11i5rnm xat24cr x1mh8g0r x1vvkbs" style="margin: 0px\; overflow-wrap: break-word\; font-family: &quot\;Segoe UI Historic&quot\;\, &quot\;Segoe UI&quot\;\, Helvetica\, Arial\, sans-serif\; color: rgb(5\, 5\, 5)\; font-size: 15px\;">Please join other YP members in hiking Carl Sandburg! Those interested should meeting in the Carl Sandburg parking lot at 10AM. After hiking an optional group lunch at a local restaurant will follow. Please wear comfortable shoes and sun screen/bug spray as needed. The hike is moderate in difficulty and should be comfortable for all skill levels. Please bring your own water and snacks. Hope to see you there!</div>\n\n<div class="x11i5rnm xat24cr x1mh8g0r x1vvkbs xtlvy1s" style="margin: 0.5em 0px 0px\; overflow-wrap: break-word\; font-family: &quot\;Segoe UI Historic&quot\;\, &quot\;Segoe UI&quot\;\, Helvetica\, Arial\, sans-serif\; color: rgb(5\, 5\, 5)\; font-size: 15px\;">We want to give a big shoutout to AdventHealth Hendersonville and our supporting sponsor Spectrum Reach Marketing for making this program possible. Please note that participation in this event is limited to those under 40.</div>\n
LOCATION:Carl Sandburg Home | 1800 Little River Rd\, Flat Rock
UID:e.2975.6002
SEQUENCE:3
DTSTAMP:20260419T201454Z
URL:https://business.hendersoncountychamber.org/events/details/young-professionals-bi-annual-meetup-6002
END:VEVENT

END:VCALENDAR
