BEGIN:VCALENDAR
VERSION:2.0
PRODID:-//ChamberMaster//Event Calendar 2.0//EN
METHOD:PUBLISH
X-PUBLISHED-TTL:P3D
REFRESH-INTERVAL:P3D
CALSCALE:GREGORIAN
BEGIN:VEVENT
DTSTART:20230404T150000Z
DTEND:20230404T170000Z
X-MICROSOFT-CDO-ALLDAYEVENT:FALSE
SUMMARY:Young Professionals Indsutry Tour
DESCRIPTION:Young Professionals of Henderson County offer opportunities for those under the age of 40 to meet and greet with others who work/ or live in the county. \n\n \n\nJoin us each quarter as we tour industries in our area. \n\n \n\nThis quarter\, we are touring\, Young Professionals Presenting Sponsor\, AdventHealth Hendersonville\, one of the two hospitals that serve our county! AdventHealth Hendersonville is popular for their Baby Place\, but is also a place where you can be seen for a spectrum of services. Providing more than 250 providers in our area\, with a wide range of medical specialties\, they serve with their mission in mind\, to heal your body\, ease your mind\, and minister to your spirit. \n\n \n\nDuring our tour\, we will see firsthand throughout the hospital and meet key staff. Also\, join us at our next monthly social for a mixer with key staff and employees from AdventHealth.
X-ALT-DESC;FMTTYPE=text/html:<div style="color: rgb(68\, 68\, 68)\; font-family: Calibri\, Helvetica\, Arial\, sans-serif\; font-size: 14px\; white-space: pre-wrap\; background-color: rgb(235\, 235\, 235)\; text-align: center\;"><span style="font-style: italic\; font-family: Arial\, Verdana\, Helvetica\, sans-serif\; color: rgb(76\, 77\, 77)\;">Young Professionals of Henderson County offer opportunities for those under the age of 40 to meet and greet with others who work/ or live in the county.&nbsp\;</span></div>\n\n<div style="color: rgb(68\, 68\, 68)\; font-family: Calibri\, Helvetica\, Arial\, sans-serif\; font-size: 14px\; white-space: pre-wrap\; background-color: rgb(235\, 235\, 235)\; text-align: center\;">&nbsp\;</div>\n\n<div style="color: rgb(68\, 68\, 68)\; font-family: Calibri\, Helvetica\, Arial\, sans-serif\; font-size: 14px\; white-space: pre-wrap\; background-color: rgb(235\, 235\, 235)\; text-align: center\;"><span style="font-style: italic\; font-family: Arial\, Verdana\, Helvetica\, sans-serif\; color: rgb(76\, 77\, 77)\;">Join us each quarter as we tour industries in our area.&nbsp\;</span></div>\n\n<div style="color: rgb(68\, 68\, 68)\; font-family: Calibri\, Helvetica\, Arial\, sans-serif\; font-size: 14px\; white-space: pre-wrap\; background-color: rgb(235\, 235\, 235)\; text-align: center\;"><span style="font-style: italic\; font-family: Arial\, Verdana\, Helvetica\, sans-serif\; color: rgb(76\, 77\, 77)\;">&nbsp\;</span></div>\n\n<div style="color: rgb(68\, 68\, 68)\; font-family: Calibri\, Helvetica\, Arial\, sans-serif\; font-size: 14px\; white-space: pre-wrap\; background-color: rgb(235\, 235\, 235)\; text-align: center\;"><span style="font-style: italic\; font-family: Arial\, Verdana\, Helvetica\, sans-serif\; color: rgb(76\, 77\, 77)\;">This quarter\, we are touring\, Young Professionals Presenting Sponsor\, AdventHealth Hendersonville\, one of the two hospitals that serve our county! AdventHealth Hendersonville is popular for their Baby Place\, but is also a place where you can be seen for a spectrum of services. Providing more than 250 providers in our area\, with a wide range of medical specialties\, they serve with their mission in mind\, to heal your body\, ease your mind\, and minister to your spirit. </span></div>\n\n<div style="color: rgb(68\, 68\, 68)\; font-family: Calibri\, Helvetica\, Arial\, sans-serif\; font-size: 14px\; white-space: pre-wrap\; background-color: rgb(235\, 235\, 235)\; text-align: center\;"><span style="font-style: italic\; font-family: Arial\, Verdana\, Helvetica\, sans-serif\; color: rgb(76\, 77\, 77)\;">&nbsp\;</span></div>\n\n<div style="color: rgb(68\, 68\, 68)\; font-family: Calibri\, Helvetica\, Arial\, sans-serif\; font-size: 14px\; white-space: pre-wrap\; background-color: rgb(235\, 235\, 235)\; text-align: center\;"><span style="font-style: italic\; font-family: Arial\, Verdana\, Helvetica\, sans-serif\; color: rgb(76\, 77\, 77)\;">During our tour\, we will see firsthand throughout the hospital and meet key staff.&nbsp\;</span><span style="color: rgb(76\, 77\, 77)\; font-family: Arial\, Verdana\, Helvetica\, sans-serif\; font-size: 14px\; text-align: center\; white-space: pre-wrap\; background-color: rgb(235\, 235\, 235)\;">Also\, join us at our next monthly social for a mixer with key staff and employees from AdventHealth. </span></div>\n
LOCATION:AdventHealth Hendersonville | 100 Hospital Dr\, Hendersonville
UID:e.2975.5371
SEQUENCE:3
DTSTAMP:20260422T110055Z
URL:https://business.hendersoncountychamber.org/events/details/young-professionals-indsutry-tour-5371
END:VEVENT

END:VCALENDAR
