BEGIN:VCALENDAR
VERSION:2.0
PRODID:-//ChamberMaster//Event Calendar 2.0//EN
METHOD:PUBLISH
X-PUBLISHED-TTL:P3D
REFRESH-INTERVAL:P3D
CALSCALE:GREGORIAN
BEGIN:VEVENT
DTSTART:20230215T220000Z
DTEND:20230215T230000Z
X-MICROSOFT-CDO-ALLDAYEVENT:FALSE
SUMMARY:Young Professionals Monthly Social
DESCRIPTION:The YPHC's Monthly Social offers a chance for those professionals under 40 to meet through a laid-back networking opportunity. Months will rotate with guest speakers and professional development opportunities as well. Join us each month at Dry Falls Brewing Co.\n\n\n\nThis month\, we will have guest Chris Angel from Mountain Credit Union\, discussing borrowing\, saving and investing and other important topics in personal finances. \n\n\n\n*Participation is limited to those under 40*\n\n\n\nA big thanks to AdventHealth Hendersonville for presenting this program for the 2023 year!
X-ALT-DESC;FMTTYPE=text/html:<span style="color: rgb(29\, 33\, 41)\; font-family: Helvetica\, Arial\, sans-serif\; font-size: 14px\; white-space: pre-wrap\;">The YPHC&#39\;s Monthly Social offers a chance for those professionals under 40 to meet through a laid-back networking opportunity. Months will rotate with guest speakers and professional development opportunities as well. Join us each month at Dry Falls Brewing Co.<br />\n<br />\nThis month\, we will have guest Chris Angel from <a href="http://www.mountaincu.org/">Mountain Credit Union</a>\, discussing borrowing\, saving and investing and other important topics in personal finances. </span><br />\n<br style="color: rgb(29\, 33\, 41)\; font-family: Helvetica\, Arial\, sans-serif\; font-size: 14px\; white-space: pre-wrap\;" />\n<span style="color: rgb(29\, 33\, 41)\; font-family: Helvetica\, Arial\, sans-serif\; font-size: 14px\; white-space: pre-wrap\;">*Participation is limited to those under 40*</span><br style="color: rgb(29\, 33\, 41)\; font-family: Helvetica\, Arial\, sans-serif\; font-size: 14px\; white-space: pre-wrap\;" />\n<br style="color: rgb(29\, 33\, 41)\; font-family: Helvetica\, Arial\, sans-serif\; font-size: 14px\; white-space: pre-wrap\;" />\n<span style="color: rgb(29\, 33\, 41)\; font-family: Helvetica\, Arial\, sans-serif\; font-size: 14px\; white-space: pre-wrap\;">A big thanks to </span><a href="https://www.adventhealth.com/hospital/adventhealth-hendersonville" style="color: rgb(56\, 88\, 152)\; cursor: pointer\; text-decoration-line: none\; font-family: Helvetica\, Arial\, sans-serif\; font-size: 14px\; white-space: pre-wrap\;" target="_blank">AdventHealth Hendersonville</a><span style="color: rgb(29\, 33\, 41)\; font-family: Helvetica\, Arial\, sans-serif\; font-size: 14px\; white-space: pre-wrap\;"> for presenting this program for the 2023 year! </span><br style="color: rgb(29\, 33\, 41)\; font-family: Helvetica\, Arial\, sans-serif\; font-size: 14px\; white-space: pre-wrap\;" />\n&nbsp\;
LOCATION:Dry Falls Brewing Co 425 Kanuga Rd\, Hendersonville
UID:e.2975.5242
SEQUENCE:3
DTSTAMP:20260422T142537Z
URL:https://business.hendersoncountychamber.org/events/details/young-professionals-monthly-social-02-08-2023-5242
END:VEVENT

END:VCALENDAR
