BEGIN:VCALENDAR
VERSION:2.0
PRODID:-//ChamberMaster//Event Calendar 2.0//EN
METHOD:PUBLISH
X-PUBLISHED-TTL:P3D
REFRESH-INTERVAL:P3D
CALSCALE:GREGORIAN
BEGIN:VEVENT
DTSTART:20230308T220000Z
DTEND:20230308T230000Z
X-MICROSOFT-CDO-ALLDAYEVENT:FALSE
SUMMARY:Young Professionals Monthly Social
DESCRIPTION:The YPHC's Monthly Social offers a chance for those professionals under 40 to meet through a laid-back networking opportunity. Months will rotate with guest speakers and professional development opportunities as well. Join us each month at Dry Falls Brewing Co.\n\n\n\n*Participation is limited to those under 40*\n\n\n\nA big thanks to Presenting Sponsor\, AdventHealth Hendersonville and our Supporting Sponsor\, Spectrum Reach\, for the 2023 year!
X-ALT-DESC;FMTTYPE=text/html:The YPHC&#39\;s Monthly Social offers a chance for those professionals under 40 to meet through a laid-back networking opportunity. Months will rotate with guest speakers and professional development opportunities as well. Join us each month at Dry Falls Brewing Co.<br />\n<br />\n*Participation is limited to those under 40*<br />\n<br />\nA big thanks to Presenting Sponsor\,&nbsp\;<a href="https://www.adventhealth.com/hospital/adventhealth-hendersonville" rel="noopener" target="_blank">AdventHealth Hendersonville</a> and our Supporting Sponsor\, <a href="https://www.spectrumreach.com/">Spectrum Reach</a>\, for the 2023 year!<br style="color: rgb(29\, 33\, 41)\; font-family: Helvetica\, Arial\, sans-serif\; font-size: 14px\; white-space: pre-wrap\;" />\n&nbsp\;
LOCATION:Dry Falls Brewing Co 425 Kanuga Rd\, Hendersonville
UID:e.2975.5243
SEQUENCE:3
DTSTAMP:20260422T111253Z
URL:https://business.hendersoncountychamber.org/events/details/young-professionals-monthly-social-03-08-2023-5243
END:VEVENT

END:VCALENDAR
