BEGIN:VCALENDAR
VERSION:2.0
PRODID:-//ChamberMaster//Event Calendar 2.0//EN
METHOD:PUBLISH
X-PUBLISHED-TTL:P3D
REFRESH-INTERVAL:P3D
CALSCALE:GREGORIAN
BEGIN:VEVENT
DTSTART:20230614T210000Z
DTEND:20230614T220000Z
X-MICROSOFT-CDO-ALLDAYEVENT:FALSE
SUMMARY:Young Professionals Monthly Social
DESCRIPTION:Are you a young professional in Hendersonville looking for a fun and relaxed way to network? Then join us for the YPHC's Monthly Social! This event is a great opportunity to meet other professionals under 40 and make new connections. Plus\, we'll be meeting at Dry Falls Brewing Co.\, so you can enjoy a cold beverage while you network.\n\nWe're excited to announce our new event format for the YPHC's Monthly Social! Our meetings will now include open networking\, round table introductions\, and a news & update section with a short open forum where young professionals can discuss what matters most to them.\n\nWe want to give a big shoutout to AdventHealth Hendersonville and our supporting sponsor Spectrum Reach Marketing for making this program possible. Please note that participation in this event is limited to those under 40.\n\nDon't miss out on this opportunity to connect with other young professionals in Hendersonville. We hope to see you there!
X-ALT-DESC;FMTTYPE=text/html:<div class="xdj266r x11i5rnm xat24cr x1mh8g0r x1vvkbs" style="margin: 0px\; overflow-wrap: break-word\; font-family: &quot\;Segoe UI Historic&quot\;\, &quot\;Segoe UI&quot\;\, Helvetica\, Arial\, sans-serif\; color: rgb(5\, 5\, 5)\; font-size: 15px\;">Are you a young professional in Hendersonville looking for a fun and relaxed way to network? Then join us for the YPHC&#39\;s Monthly Social! This event is a great opportunity to meet other professionals under 40 and make new connections. Plus\, we&#39\;ll be meeting at Dry Falls Brewing Co.\, so you can enjoy a cold beverage while you network.</div>\n\n<div class="x11i5rnm xat24cr x1mh8g0r x1vvkbs xtlvy1s" style="margin: 0.5em 0px 0px\; overflow-wrap: break-word\; font-family: &quot\;Segoe UI Historic&quot\;\, &quot\;Segoe UI&quot\;\, Helvetica\, Arial\, sans-serif\; color: rgb(5\, 5\, 5)\; font-size: 15px\;">We&#39\;re excited to announce our new event format for the YPHC&#39\;s Monthly Social! Our meetings will now include open networking\, round table introductions\, and a news &amp\; update section with a short open forum where young professionals can discuss what matters most to them.</div>\n\n<div class="x11i5rnm xat24cr x1mh8g0r x1vvkbs xtlvy1s" style="margin: 0.5em 0px 0px\; overflow-wrap: break-word\; font-family: &quot\;Segoe UI Historic&quot\;\, &quot\;Segoe UI&quot\;\, Helvetica\, Arial\, sans-serif\; color: rgb(5\, 5\, 5)\; font-size: 15px\;">We want to give a big shoutout to AdventHealth Hendersonville and our supporting sponsor Spectrum Reach Marketing for making this program possible. Please note that participation in this event is limited to those under 40.</div>\n\n<div class="x11i5rnm xat24cr x1mh8g0r x1vvkbs xtlvy1s" style="margin: 0.5em 0px 0px\; overflow-wrap: break-word\; font-family: &quot\;Segoe UI Historic&quot\;\, &quot\;Segoe UI&quot\;\, Helvetica\, Arial\, sans-serif\; color: rgb(5\, 5\, 5)\; font-size: 15px\;">Don&#39\;t miss out on this opportunity to connect with other young professionals in Hendersonville. We hope to see you there!</div>\n<br style="color: rgb(29\, 33\, 41)\; font-family: Helvetica\, Arial\, sans-serif\; font-size: 14px\; white-space: pre-wrap\;" />\n&nbsp\;
LOCATION:Dry Falls Brewing Co 425 Kanuga Rd\, Hendersonville
UID:e.2975.5246
SEQUENCE:3
DTSTAMP:20260419T234656Z
URL:https://business.hendersoncountychamber.org/events/details/young-professionals-monthly-social-06-14-2023-5246
END:VEVENT

END:VCALENDAR
