BEGIN:VCALENDAR
VERSION:2.0
PRODID:-//ChamberMaster//Event Calendar 2.0//EN
METHOD:PUBLISH
X-PUBLISHED-TTL:P3D
REFRESH-INTERVAL:P3D
CALSCALE:GREGORIAN
BEGIN:VEVENT
DTSTART:20221109T220000Z
DTEND:20221109T230000Z
X-MICROSOFT-CDO-ALLDAYEVENT:FALSE
SUMMARY:Young Professionals Monthly Social
DESCRIPTION:The YPHC's Social offers a chance for young professionals to meet through a laid-back networking opportunity. Join us each month on the 2nd Wednesday from 5:00 - 6:30 pm in Henderson County.\n\n\n\n*Participation is limited to those under 40*\n\n\n\nA big thanks to AdventHealth Hendersonville and Spectrum Reach for presenting this program for the 2022 year! \n\n\n\n#yphc #YPHC
X-ALT-DESC;FMTTYPE=text/html:<span style="color: rgb(29\, 33\, 41)\; font-family: Helvetica\, Arial\, sans-serif\; font-size: 14px\; white-space: pre-wrap\;">The YPHC's Social offers a chance for young professionals to meet through a laid-back networking opportunity. Join us each month on the 2nd Wednesday from 5:00 - 6:30 pm in Henderson County.</span><br>\n<br style="color: rgb(29\, 33\, 41)\; font-family: Helvetica\, Arial\, sans-serif\; font-size: 14px\; white-space: pre-wrap\;">\n<span style="color: rgb(29\, 33\, 41)\; font-family: Helvetica\, Arial\, sans-serif\; font-size: 14px\; white-space: pre-wrap\;">*Participation is limited to those under 40*</span><br style="color: rgb(29\, 33\, 41)\; font-family: Helvetica\, Arial\, sans-serif\; font-size: 14px\; white-space: pre-wrap\;">\n<br style="color: rgb(29\, 33\, 41)\; font-family: Helvetica\, Arial\, sans-serif\; font-size: 14px\; white-space: pre-wrap\;">\n<span style="color: rgb(29\, 33\, 41)\; font-family: Helvetica\, Arial\, sans-serif\; font-size: 14px\; white-space: pre-wrap\;">A big thanks to </span><u><a href="https://www.adventhealth.com/hospital/adventhealth-hendersonville" style="color: rgb(56\, 88\, 152)\; cursor: pointer\; text-decoration-line: none\; font-family: Helvetica\, Arial\, sans-serif\; font-size: 14px\; white-space: pre-wrap\;" target="_blank">AdventHealth Hendersonville</a></u><span style="color: rgb(29\, 33\, 41)\; font-family: Helvetica\, Arial\, sans-serif\; font-size: 14px\; white-space: pre-wrap\;"> and <u><a href="https://www.spectrumreach.com/">Spectrum Reach</a> </u>for presenting this program for the 2022 year! </span><br style="color: rgb(29\, 33\, 41)\; font-family: Helvetica\, Arial\, sans-serif\; font-size: 14px\; white-space: pre-wrap\;">\n<br style="color: rgb(29\, 33\, 41)\; font-family: Helvetica\, Arial\, sans-serif\; font-size: 14px\; white-space: pre-wrap\;">\n<a href="https://www.facebook.com/hashtag/yphc" style="color: rgb(56\, 88\, 152)\; cursor: pointer\; text-decoration-line: none\; font-family: Helvetica\, Arial\, sans-serif\; font-size: 14px\; white-space: pre-wrap\;" target="_blank">#yphc</a><span style="color: rgb(29\, 33\, 41)\; font-family: Helvetica\, Arial\, sans-serif\; font-size: 14px\; white-space: pre-wrap\;"> </span><a href="https://www.facebook.com/hashtag/yphcpopups" style="color: rgb(56\, 88\, 152)\; cursor: pointer\; text-decoration-line: none\; font-family: Helvetica\, Arial\, sans-serif\; font-size: 14px\; white-space: pre-wrap\;" target="_blank">#YPHC</a>
LOCATION:Dry Falls Brewing Co. 425 Kanuga Rd\, Hendersonville
UID:e.2975.3375
SEQUENCE:3
DTSTAMP:20260422T190725Z
URL:https://business.hendersoncountychamber.org/events/details/young-professionals-monthly-social-11-09-2022-3375
END:VEVENT

END:VCALENDAR
