BEGIN:VCALENDAR
VERSION:2.0
PRODID:-//ChamberMaster//Event Calendar 2.0//EN
METHOD:PUBLISH
X-PUBLISHED-TTL:P3D
REFRESH-INTERVAL:P3D
CALSCALE:GREGORIAN
BEGIN:VEVENT
DTSTART:20221012T210000Z
DTEND:20221012T220000Z
X-MICROSOFT-CDO-ALLDAYEVENT:FALSE
SUMMARY:Young Professionals Pop-Up Social
DESCRIPTION:The YPHC's offers a chance for young professionals to meet through a laid-back networking opportunity. Join us this month at The Kingmaker's Draft off of Main St in Downtown Hendersonville.\n\n\n\nOctober's Program:\n\n\n\nThis month we will be hearing from Elizabeth Estrada about Professional Branding & Marketing 101! In this short interactive learning session gleam insights into yourself\, your career\, and your business. Also for a fun twist\, attend to learn the marketing lesson behind the phrase "let them eat cake!"  Materials will be provided. Just bring yourself\, a few business cards\, and a bright smile. Feel free to stay afterwards for networking.\n\n\n\nElizabeth Estrada is an Account Executive with Spectrum Reach Marketing. She helps business in WNC create and maintain effective marketing strategies by utilizing a multiscreen approach. Elizabeth has studied business & marketing internationally in China\, Japan\, and Uruguay. Elizabeth has also won a few awards for some of her fine art pieces. Though artistic\, Elizabeth loves looking at numbers and dealing with analytics. Elizabeth is very much a people's person and you will often see her in the community networking\, visiting local businesses\, or Latin dancing!\n\n\n\n\n\n*Participation is limited to those under 40*\n\n\n\nA big thanks to AdventHealth Hendersonville for presenting this program for the 2022 year! \n\n\n\n#yphc #YPHCPopUps
X-ALT-DESC;FMTTYPE=text/html:<span style="font-family:arial\;"><span style="white-space: pre-wrap\;">The YPHC&#39\;s offers a chance for young professionals to meet through a laid-back networking opportunity. Join us this month at <strong>The Kingmaker&#39\;s Draft</strong> off of Main St in Downtown Hendersonville.<br />\n<br />\n<strong>October&#39\;s Program:</strong></span><br />\n<br />\nThis month we will be hearing from Elizabeth Estrada about Professional Branding &amp\; Marketing 101! In this short interactive learning session gleam insights into yourself\, your career\, and your business. Also for a fun twist\, attend to learn the marketing lesson behind the phrase &ldquo\;let them eat cake!&rdquo\; &nbsp\;Materials will be provided. Just bring yourself\, a few business cards\, and a bright smile. Feel free to stay afterwards for networking.<br />\n<br />\nElizabeth Estrada is an Account Executive with Spectrum Reach Marketing. She helps business in WNC create and maintain effective marketing strategies by utilizing a multiscreen approach. Elizabeth has studied business &amp\; marketing internationally in China\, Japan\, and Uruguay. Elizabeth has also won a few awards for some of her fine art pieces. Though artistic\, Elizabeth loves looking at numbers and dealing with analytics. Elizabeth is very much a people&rsquo\;s person and you will often see her in the community networking\, visiting local businesses\, or Latin dancing!<br />\n<br />\n<br />\n<span style="white-space: pre-wrap\;">*Participation is limited to those under 40*</span><br style="color: rgb(29\, 33\, 41)\; font-family: Helvetica\, Arial\, sans-serif\; font-size: 14px\; white-space: pre-wrap\;" />\n<br style="color: rgb(29\, 33\, 41)\; font-family: Helvetica\, Arial\, sans-serif\; font-size: 14px\; white-space: pre-wrap\;" />\n<span style="white-space: pre-wrap\;">A big thanks to </span><a href="https://www.adventhealth.com/hospital/adventhealth-hendersonville" style="color: rgb(56\, 88\, 152)\; cursor: pointer\; text-decoration-line: none\; font-family: Helvetica\, Arial\, sans-serif\; font-size: 14px\; white-space: pre-wrap\;" target="_blank">AdventHealth Hendersonville</a><span style="white-space: pre-wrap\;"> for presenting this program for the 2022 year! </span><br style="color: rgb(29\, 33\, 41)\; font-family: Helvetica\, Arial\, sans-serif\; font-size: 14px\; white-space: pre-wrap\;" />\n<br style="color: rgb(29\, 33\, 41)\; font-family: Helvetica\, Arial\, sans-serif\; font-size: 14px\; white-space: pre-wrap\;" />\n<a href="https://www.facebook.com/hashtag/yphc" style="color: rgb(56\, 88\, 152)\; cursor: pointer\; text-decoration-line: none\; font-family: Helvetica\, Arial\, sans-serif\; font-size: 14px\; white-space: pre-wrap\;" target="_blank">#yphc</a><span style="white-space: pre-wrap\;"> </span><a href="https://www.facebook.com/hashtag/yphcpopups" style="color: rgb(56\, 88\, 152)\; cursor: pointer\; text-decoration-line: none\; font-family: Helvetica\, Arial\, sans-serif\; font-size: 14px\; white-space: pre-wrap\;" target="_blank">#YPHCPopUps</a></span>
LOCATION:Kingmaker's Draft | 101 S. Main St\, Hendersonville
UID:e.2975.3374
SEQUENCE:3
DTSTAMP:20260422T220819Z
URL:https://business.hendersoncountychamber.org/events/details/young-professionals-pop-up-social-10-12-2022-3374
END:VEVENT

END:VCALENDAR
